BEGIN:VCALENDAR
VERSION:2.0
PRODID:-//https://www.daughtersofzionministries.com///NONSGML kigkonsult.se iCalcreator 2.10.15//
METHOD:PUBLISH
BEGIN:VEVENT
UID:20260422T143445UTC-6078VGELMs@https://www.daughtersofzionministries.com
 /
DTSTAMP:20260422T143445Z
DESCRIPTION:\n    Honduras Mission Trip Oct 5-9\, 2017\n\nOnce again\, we a
 re gearing up for a mission trip to Honduras\, Oct 5 -9 and we are very ex
 cited.  On this trip\, we will be doing clown ministry for the kids at El 
 Rosario while spreading joy and the love of Jesus with them.  These kids l
 ive in extreme poverty with no running water\, no electricity and on dirt 
 floors.  So\, when we can go and put a smile on their face and bring joy t
 o their hearts\, we go and consider it an honor and a tremendous blessing.
 \nWe will also have a Doctor\, my son\, Gary and a dentist\, John Cayce (m
 y adopted son :) ) with us.  Needless to say\, their days will be extremel
 y busy as they see hundreds of patients.  These precious men are very spec
 ial\, not only do they meet the medical needs of the people but they take 
 the time to pray with them as well.   Pastor Rusty Brady and his son\, Ty 
 and Johnny Puryear will also be with us to clown\, preach and share the go
 spel with all the people.  Such great men of God and we are so blessed to 
 have them with us.\nOn the third day\, we will go up into the mountains an
 d minister to a group of kindergarten kids with games and fun activities. 
  We will also take much needed school supplies to them.   A little further
  up the mountain is another group of kids and we will be clowning and mini
 stering to them while medical and dental work is going on for adults and c
 hildren.  Each of the places we go\, we always take food\, gifts and suppl
 ies and a lot of love.\nOur heart is to share the love of Jesus with these
  precious people and be a blessing to them\, just as Jesus has called us t
 o do.  And our prayer is to always be available to be the hands and feet o
 f Jesus to those less fortunate.   Please pray for us!\nServing in Him Joy
 fully\nCharlotte https://www.daughtersofzionministries.com/component/rseve
 ntspro/event/3-honduras-mission-trip
DTSTART:20171005T050000Z
DTEND:20171009T210100Z
LOCATION:Honduras (Honduras)
SUMMARY:Honduras Mission Trip
URL:https://www.daughtersofzionministries.com/component/rseventspro/event/3
 -honduras-mission-trip
END:VEVENT
END:VCALENDAR
